BEGIN:VCALENDAR
VERSION:2.0
PRODID:-//KeyStone Financial - ECPv6.14.2//NONSGML v1.0//EN
CALSCALE:GREGORIAN
METHOD:PUBLISH
X-WR-CALNAME:KeyStone Financial
X-ORIGINAL-URL:https://keystocks.com
X-WR-CALDESC:Events for KeyStone Financial
REFRESH-INTERVAL;VALUE=DURATION:PT1H
X-Robots-Tag:noindex
X-PUBLISHED-TTL:PT1H
BEGIN:VTIMEZONE
TZID:UTC
BEGIN:STANDARD
TZOFFSETFROM:+0000
TZOFFSETTO:+0000
TZNAME:UTC
DTSTART:20170101T000000
END:STANDARD
END:VTIMEZONE
BEGIN:VTIMEZONE
TZID:America/Los_Angeles
BEGIN:DAYLIGHT
TZOFFSETFROM:-0800
TZOFFSETTO:-0700
TZNAME:PDT
DTSTART:20190310T100000
END:DAYLIGHT
BEGIN:STANDARD
TZOFFSETFROM:-0700
TZOFFSETTO:-0800
TZNAME:PST
DTSTART:20191103T090000
END:STANDARD
END:VTIMEZONE
BEGIN:VTIMEZONE
TZID:America/Vancouver
BEGIN:DAYLIGHT
TZOFFSETFROM:-0800
TZOFFSETTO:-0700
TZNAME:PDT
DTSTART:20180311T100000
END:DAYLIGHT
BEGIN:STANDARD
TZOFFSETFROM:-0700
TZOFFSETTO:-0800
TZNAME:PST
DTSTART:20181104T090000
END:STANDARD
END:VTIMEZONE
BEGIN:VEVENT
DTSTART;TZID=UTC:20190424T190000
DTEND;TZID=UTC:20190424T210000
DTSTAMP:20260421T105508
CREATED:20190410T101318Z
LAST-MODIFIED:20190423T145654Z
UID:19214-1556132400-1556139600@keystocks.com
SUMMARY:DIY Stock Investment Seminar Edmonton
DESCRIPTION:DIY Stock Investment Seminars\nLearn How to Create a Simple \n10-20 Stock Portfolio\n  \n2 Ticket Options For Each Event\n1. Early Bird Tickets\n\nGeneral Admission & Seating.\nKeyStone’s 2019 Canadian Cannabis Investors Special Report ($599 Value).\nKeyStone’s DIY Stock Investment Seminar Video Series – Building a U.S. Stock Portfolio. Strategies for Canadian Investors Building a U.S. Portfolio ($79.99 Value).\n\n2. VIP Tickets\n\nVIP Admission & Seating.\nKeyStone’s 2019 Canadian Cannabis Investors Special Report ($599 Value).\nKeyStone’s DIY Stock Investment Seminar Video Series – Building a U.S. Stock Portfolio. Strategies for Canadian Investors Building a U.S. Portfolio ($79.99 Value).\nKeyStone’s DIY Stock Investment Seminar Video Series – Building a Winning Stock Portfolio Inside or Outside Your RRSP/TFSA One Stock at a Time ($79.99 Value).\nKeyStone’s DIY Stock Investment Seminar Video Series – Your Future Portfolio Today in Ten Stocks ($79.99 Value).
URL:https://keystocks.com/event/diy-stock-investment-seminar-edmonton-2/
LOCATION:Varscona Hotel on Whyte\, 8208 106 St NW\, Edmonton\, AB\, T6E6R9\, Canada
CATEGORIES:DIY Stock Investment Seminar Series
ATTACH;FMTTYPE=image/jpeg:https://keystocks.com/wp-content/uploads/2019/01/Travel-Feature-Image-Recovered-1600x856.jpg
END:VEVENT
BEGIN:VEVENT
DTSTART;TZID=UTC:20190423T190000
DTEND;TZID=UTC:20190423T210000
DTSTAMP:20260421T105508
CREATED:20190413T101040Z
LAST-MODIFIED:20190423T145528Z
UID:19210-1556046000-1556053200@keystocks.com
SUMMARY:DIY Stock Investment Seminar Vancouver
DESCRIPTION:DIY Stock Investment Seminars\nLearn How to Create a Simple \n10-20 Stock Portfolio\n  \n2 Ticket Options For Each Event\n1. Early Bird Tickets\n\nGeneral Admission & Seating.\nKeyStone’s 2019 Canadian Cannabis Investors Special Report ($599 Value).\nKeyStone’s DIY Stock Investment Seminar Video Series – Building a U.S. Stock Portfolio. Strategies for Canadian Investors Building a U.S. Portfolio ($79.99 Value).\n\n2. VIP Tickets\n\nVIP Admission & Seating.\nKeyStone’s 2019 Canadian Cannabis Investors Special Report ($599 Value).\nKeyStone’s DIY Stock Investment Seminar Video Series – Building a U.S. Stock Portfolio. Strategies for Canadian Investors Building a U.S. Portfolio ($79.99 Value).\nKeyStone’s DIY Stock Investment Seminar Video Series – Building a Winning Stock Portfolio Inside or Outside Your RRSP/TFSA One Stock at a Time ($79.99 Value).\nKeyStone’s DIY Stock Investment Seminar Video Series – Your Future Portfolio Today in Ten Stocks ($79.99 Value).
URL:https://keystocks.com/event/diy-stock-investment-seminar-vancouver-2/
LOCATION:UBC Robson Square\, 800 Robson St\, Vancouver\, BC\, V6Z3B7\, Canada
CATEGORIES:DIY Stock Investment Seminar Series
END:VEVENT
BEGIN:VEVENT
DTSTART;TZID=UTC:20190417T190000
DTEND;TZID=UTC:20190417T210000
DTSTAMP:20260421T105508
CREATED:20190415T100935Z
LAST-MODIFIED:20190418T012045Z
UID:19206-1555527600-1555534800@keystocks.com
SUMMARY:DIY Stock Investment Seminar Langley
DESCRIPTION:DIY Stock Investment Seminars\nLearn How to Create a Simple \n10-20 Stock Portfolio\n\n2 Ticket Options For Each Event\n1. Early Bird Tickets\n\nGeneral Admission & Seating.\nKeyStone’s 2019 Canadian Cannabis Investors Special Report ($599 Value).\nKeyStone’s DIY Stock Investment Seminar Video Series – Building a U.S. Stock Portfolio. Strategies for Canadian Investors Building a U.S. Portfolio ($79.99 Value).\n\n2. VIP Tickets\n\nVIP Admission & Seating.\nKeyStone’s 2019 Canadian Cannabis Investors Special Report ($599 Value).\nKeyStone’s DIY Stock Investment Seminar Video Series – Building a U.S. Stock Portfolio. Strategies for Canadian Investors Building a U.S. Portfolio ($79.99 Value).\nKeyStone’s DIY Stock Investment Seminar Video Series – Building a Winning Stock Portfolio Inside or Outside Your RRSP/TFSA One Stock at a Time ($79.99 Value).\nKeyStone’s DIY Stock Investment Seminar Video Series – Your Future Portfolio Today in Ten Stocks ($79.99 Value).
URL:https://keystocks.com/event/diy-stock-investment-seminar-langley-2/
LOCATION:Sandman Signature Hotel Langley\, 8828 201 St\, Langley\, BC\, V2Y0C8\, Canada
CATEGORIES:DIY Stock Investment Seminar Series
ATTACH;FMTTYPE=image/jpeg:https://keystocks.com/wp-content/uploads/2019/01/fort-langley.jpg
END:VEVENT
BEGIN:VEVENT
DTSTART;TZID=UTC:20190416T190000
DTEND;TZID=UTC:20190416T210000
DTSTAMP:20260421T105508
CREATED:20190328T100812Z
LAST-MODIFIED:20190426T013331Z
UID:19202-1555441200-1555448400@keystocks.com
SUMMARY:DIY Stock Investment Seminar Victoria
DESCRIPTION:DIY Stock Investment Seminars\nLearn How to Create a Simple\n10-20 Stock Portfolio\n2 Ticket Options For Each Event\n1. Early Bird Tickets\n\nGeneral Admission & Seating.\nKeyStone’s 2019 Canadian Cannabis Investors Special Report ($599 Value).\nKeyStone’s DIY Stock Investment Seminar Video Series – Building a U.S. Stock Portfolio. Strategies for Canadian Investors Building a U.S. Portfolio ($79.99 Value).\n\n2. VIP Tickets\n\nVIP Admission & Seating.\nKeyStone’s 2019 Canadian Cannabis Investors Special Report ($599 Value).\nKeyStone’s DIY Stock Investment Seminar Video Series – Building a U.S. Stock Portfolio. Strategies for Canadian Investors Building a U.S. Portfolio ($79.99 Value).\nKeyStone’s DIY Stock Investment Seminar Video Series – Building a Winning Stock Portfolio Inside or Outside Your RRSP/TFSA One Stock at a Time ($79.99 Value).\nKeyStone’s DIY Stock Investment Seminar Video Series – Your Future Portfolio Today in Ten Stocks ($79.99 Value).
URL:https://keystocks.com/event/diy-stock-investment-seminar-victoria-2/
LOCATION:Coast Victoria Hotel & Marina by APA\, 146 Kingston St\, Victoria\, BC\, V8V1V4\, Canada
CATEGORIES:DIY Stock Investment Seminar Series
ATTACH;FMTTYPE=image/jpeg:https://keystocks.com/wp-content/uploads/2019/01/inner-harbour-downtown-victoria-parliament.jpg
END:VEVENT
BEGIN:VEVENT
DTSTART;TZID=UTC:20190415T190000
DTEND;TZID=UTC:20190415T210000
DTSTAMP:20260421T105508
CREATED:20190329T080343Z
LAST-MODIFIED:20190408T155307Z
UID:19197-1555354800-1555362000@keystocks.com
SUMMARY:DIY Stock Investment Seminar Kelowna
DESCRIPTION:DIY Stock Investment Seminars\nLearn How to Create a Simple\n10-20 Stock Portfolio\n  \n2 Ticket Options For Each Event\n1. Early Bird Tickets\n\nGeneral Admission & Seating.\nKeyStone’s 2019 Canadian Cannabis Investors Special Report ($599 Value).\nKeyStone’s DIY Stock Investment Seminar Video Series – Building a U.S. Stock Portfolio. Strategies for Canadian Investors Building a U.S. Portfolio ($79.99 Value).\n\n2. VIP Tickets\n\nVIP Admission & Seating.\nKeyStone’s 2019 Canadian Cannabis Investors Special Report ($599 Value).\nKeyStone’s DIY Stock Investment Seminar Video Series – Building a U.S. Stock Portfolio. Strategies for Canadian Investors Building a U.S. Portfolio ($79.99 Value).\nKeyStone’s DIY Stock Investment Seminar Video Series – Building a Winning Stock Portfolio Inside or Outside Your RRSP/TFSA One Stock at a Time ($79.99 Value).\nKeyStone’s DIY Stock Investment Seminar Video Series – Your Future Portfolio Today in Ten Stocks ($79.99 Value).
URL:https://keystocks.com/event/diy-stock-investment-seminar-kelowna/
LOCATION:Coast Capri Hotel\, 1171 Harvey Ave\, Kelowna\, BC\, V1Y6E8\, Canada
CATEGORIES:DIY Stock Investment Seminar Series
ATTACH;FMTTYPE=image/jpeg:https://keystocks.com/wp-content/uploads/2019/01/images.jpeg
END:VEVENT
BEGIN:VEVENT
DTSTART;VALUE=DATE:20190401
DTEND;VALUE=DATE:20190403
DTSTAMP:20260421T105508
CREATED:20190331T204015Z
LAST-MODIFIED:20190401T135229Z
UID:20734-1554076800-1554249599@keystocks.com
SUMMARY:Spring Investor Summit
DESCRIPTION:The Spring Investor Summit is an exclusive event dedicated to connecting small and micro cap companies with high-level\, institutional and retail investors.
URL:https://keystocks.com/event/spring-investor-summit/
LOCATION:BC
ATTACH;FMTTYPE=image/jpeg:https://keystocks.com/wp-content/uploads/2019/03/aRJBFEij_400x400.jpg
END:VEVENT
BEGIN:VEVENT
DTSTART;VALUE=DATE:20190201
DTEND;VALUE=DATE:20190203
DTSTAMP:20260421T105508
CREATED:20190120T090005Z
LAST-MODIFIED:20190120T103924Z
UID:17662-1548979200-1549151999@keystocks.com
SUMMARY:World Outlook Financial Conference
DESCRIPTION:Helping Canadian investors make and save money since 1990.
URL:https://keystocks.com/event/world-outlook-financial-conference-2019/
LOCATION:Westin Bayshore\, 1601 Bayshore Dr\, Vancouver\, BC\, V6G 2V4\, Canada
ATTACH;FMTTYPE=image/png:https://keystocks.com/wp-content/uploads/2018/10/WOFC-coming-soon.png
END:VEVENT
BEGIN:VEVENT
DTSTART;VALUE=DATE:20190120
DTEND;VALUE=DATE:20190122
DTSTAMP:20260421T105508
CREATED:20190120T102920Z
LAST-MODIFIED:20190120T103930Z
UID:18970-1547942400-1548115199@keystocks.com
SUMMARY:Vancouver Resource Investment Conference
DESCRIPTION:The Vancouver Resource Investment Conference has been the bellwether of the junior mining market for the last twenty-five years. It is the number one source of information for investment trends and ideas\, covering all aspects of the natural resource industry. \nEach year\, the VRIC hosts over 60 keynote speakers\, 350 exhibiting companies and 9000 investors. \nUse the code KEYSTONE at checkout for COMPLIMENTARY tickets!
URL:https://keystocks.com/event/vancouver-resource-investment-conference/
LOCATION:Vancouver Convention Centre\, 1055 Canada Pl\, Vancouver\, BC\, V6C 0C3\, Canada
ATTACH;FMTTYPE=image/png:https://keystocks.com/wp-content/uploads/2019/01/45271_5c0b2f3eec5c5.png
END:VEVENT
BEGIN:VEVENT
DTSTART;VALUE=DATE:20181204
DTEND;VALUE=DATE:20181207
DTSTAMP:20260421T105508
CREATED:20181012T234342Z
LAST-MODIFIED:20181017T021754Z
UID:17659-1543881600-1544140799@keystocks.com
SUMMARY:LD Micro Main Event
DESCRIPTION:Host of the largest and most influential independent micro-cap conferences.
URL:https://keystocks.com/event/ld-micro-main-event/
LOCATION:BC
ATTACH;FMTTYPE=image/png:https://keystocks.com/wp-content/uploads/2018/10/Main-event-2018-650px.png
END:VEVENT
BEGIN:VEVENT
DTSTART;TZID=UTC:20181004T190000
DTEND;TZID=UTC:20181004T210000
DTSTAMP:20260421T105508
CREATED:20180821T030554Z
LAST-MODIFIED:20180829T231255Z
UID:8158-1538679600-1538686800@keystocks.com
SUMMARY:DIY Stock Investment Seminar Victoria
DESCRIPTION:Create Your Future DIY Portfolio Today with as Little as 10 Stocks – Blending Today’s Hottest Themes with Fundamental Growth Principles.
URL:https://keystocks.com/event/diy-stock-investment-seminar-victoria/
LOCATION:Coast Victoria Hotel & Marina by APA\, 146 Kingston St\, Victoria\, BC\, V8V1V4\, Canada
CATEGORIES:DIY Stock Investment Seminar Series
END:VEVENT
BEGIN:VEVENT
DTSTART;TZID=America/Vancouver:20181003T190000
DTEND;TZID=America/Vancouver:20181003T210000
DTSTAMP:20260421T105508
CREATED:20180822T030029Z
LAST-MODIFIED:20181004T040442Z
UID:8154-1538593200-1538600400@keystocks.com
SUMMARY:DIY Stock Investment Seminar Langley
DESCRIPTION:Create Your Future DIY Portfolio Today with as Little as 10 Stocks – Blending Today’s Hottest Themes with Fundamental Growth Principles.
URL:https://keystocks.com/event/diy-stock-investment-seminar-langley/
LOCATION:Sandman Signature Hotel Langley\, 8828 201 St\, Langley\, BC\, V2Y0C8\, Canada
CATEGORIES:DIY Stock Investment Seminar Series
END:VEVENT
BEGIN:VEVENT
DTSTART;TZID=UTC:20180927T190000
DTEND;TZID=UTC:20180927T210000
DTSTAMP:20260421T105508
CREATED:20180826T012501Z
LAST-MODIFIED:20180912T090853Z
UID:8099-1538074800-1538082000@keystocks.com
SUMMARY:DIY Stock Investment Seminar Vancouver
DESCRIPTION:Create Your Future DIY Portfolio Today with as Little as 10 Stocks – Blending Today’s Hottest Themes with Fundamental Growth Principles.
URL:https://keystocks.com/event/diy-stock-investment-seminar-vancouver/
LOCATION:UBC Robson Square\, 800 Robson St\, Vancouver\, BC\, V6Z3B7\, Canada
CATEGORIES:DIY Stock Investment Seminar Series
ORGANIZER;CN="KeyStone Financial":MAILTO:bhabetler@keystocks.com
END:VEVENT
BEGIN:VEVENT
DTSTART;TZID=UTC:20180926T190000
DTEND;TZID=UTC:20180926T210000
DTSTAMP:20260421T105508
CREATED:20180823T025832Z
LAST-MODIFIED:20180906T005159Z
UID:8150-1537988400-1537995600@keystocks.com
SUMMARY:DIY Stock Investment Seminar Kamloops
DESCRIPTION:Create Your Future DIY Portfolio Today with as Little as 10 Stocks – Blending Today’s Hottest Themes with Fundamental Growth Principles.
URL:https://keystocks.com/event/diy-stock-investment-seminar-kamloops/
LOCATION:Coast Kamloops Hotel & Conference Centre\, 1250 Rogers Way\, Kamloops\, BC\, V1S 1N5\, Canada
CATEGORIES:DIY Stock Investment Seminar Series
ORGANIZER;CN="KeyStone Financial":MAILTO:bhabetler@keystocks.com
END:VEVENT
BEGIN:VEVENT
DTSTART;TZID=UTC:20180925T190000
DTEND;TZID=UTC:20180925T210000
DTSTAMP:20260421T105508
CREATED:20180824T020202Z
LAST-MODIFIED:20180906T005215Z
UID:8135-1537902000-1537909200@keystocks.com
SUMMARY:DIY Stock Investment Seminar Edmonton
DESCRIPTION:Create Your Future DIY Portfolio Today with as Little as 10 Stocks – Blending Today’s Hottest Themes with Fundamental Growth Principles.
URL:https://keystocks.com/event/diy-stock-investment-seminar-edmonton/
LOCATION:Varscona Hotel on Whyte\, 8208 106 St NW\, Edmonton\, AB\, T6E6R9\, Canada
CATEGORIES:DIY Stock Investment Seminar Series
ORGANIZER;CN="KeyStone Financial":MAILTO:bhabetler@keystocks.com
END:VEVENT
BEGIN:VEVENT
DTSTART;TZID=UTC:20180924T190000
DTEND;TZID=UTC:20180924T210000
DTSTAMP:20260421T105508
CREATED:20180825T015929Z
LAST-MODIFIED:20180906T005233Z
UID:8120-1537815600-1537822800@keystocks.com
SUMMARY:DIY Stock Investment Seminar Calgary
DESCRIPTION:Create Your Future DIY Portfolio Today with as Little as 10 Stocks – Blending Today’s Hottest Themes with Fundamental Growth Principles.
URL:https://keystocks.com/event/diy-stock-investment-seminar-calgary/
LOCATION:Coast Plaza Hotel & Conference Centre\, 1316 33 St NE\, Calgary\, AB\, T2A 6B6\, Canada
CATEGORIES:DIY Stock Investment Seminar Series
ORGANIZER;CN="KeyStone Financial":MAILTO:bhabetler@keystocks.com
END:VEVENT
BEGIN:VEVENT
DTSTART;VALUE=DATE:20180919
DTEND;VALUE=DATE:20180921
DTSTAMP:20260421T105508
CREATED:20180215T014312Z
LAST-MODIFIED:20180912T032853Z
UID:8109-1537315200-1537487999@keystocks.com
SUMMARY:Extraordinary Future 2018
DESCRIPTION:Driving innovation in Canada by connecting companies with capital. Extraordinary Future is the cornerstone event showcasing Canadian technology.\n  \nUse the code KEYSTONE for 50% Off your tickets using the link below.
URL:https://keystocks.com/event/extraordinary-future-2018/
LOCATION:Vancouver Convention Centre\, 1055 Canada Pl\, Vancouver\, BC\, V6C 0C3\, Canada
ATTACH;FMTTYPE=image/png:https://keystocks.com/wp-content/uploads/2018/06/83733_5b6b5692267be.png
END:VEVENT
BEGIN:VEVENT
DTSTART;TZID=UTC:20180913T190000
DTEND;TZID=UTC:20180913T210000
DTSTAMP:20260421T105508
CREATED:20180829T215958Z
LAST-MODIFIED:20180912T023308Z
UID:15246-1536865200-1536872400@keystocks.com
SUMMARY:DIY Stock Investment Seminar Toronto
DESCRIPTION:Create Your Future DIY Portfolio Today with as Little as 10 Stocks – Blending Today’s Hottest Themes with Fundamental Growth Principles.
URL:https://keystocks.com/event/diy-stock-investment-seminar-toronto/
LOCATION:Sheraton Toronto Airport Hotel & Conference Centre\, 801 Dixon Rd\, Toronto\, ON\, M9W1J5\, Canada
ORGANIZER;CN="KeyStone Financial":MAILTO:bhabetler@keystocks.com
END:VEVENT
BEGIN:VEVENT
DTSTART;TZID=UTC:20180315T190000
DTEND;TZID=UTC:20180315T210000
DTSTAMP:20260421T105508
CREATED:20180227T022239Z
LAST-MODIFIED:20180227T032407Z
UID:3085-1521140400-1521147600@keystocks.com
SUMMARY:Vancouver: Building a Winning RRSP/TFSA One Stock at a Time
DESCRIPTION:All you need to know to effectively structure a winning stock portfolio and\, most importantly\, the right stocks to put in them.
URL:https://keystocks.com/event/building-a-winning-rrsp-tfsa-one-stock-at-a-time-7/
LOCATION:UBC Robson Square\, 800 Robson St\, Vancouver\, BC\, V6Z3B7\, Canada
ORGANIZER;CN="KeyStone Financial":MAILTO:bhabetler@keystocks.com
END:VEVENT
BEGIN:VEVENT
DTSTART;TZID=UTC:20180314T190000
DTEND;TZID=UTC:20180314T210000
DTSTAMP:20260421T105508
CREATED:20180202T070152Z
LAST-MODIFIED:20180227T032438Z
UID:2359-1521054000-1521061200@keystocks.com
SUMMARY:Langley: Building a Winning RRSP/TFSA One Stock at a Time
DESCRIPTION:All you need to know to effectively structure a winning stock portfolio and\, most importantly\, the right stocks to put in them.
URL:https://keystocks.com/event/building-a-winning-rrsp-tfsa-one-stock-at-a-time-6/
LOCATION:Sandman Signature Hotel Langley\, 8828 201 St\, Langley\, BC\, V2Y0C8\, Canada
CATEGORIES:DIY Stock Investment Seminar Series
ORGANIZER;CN="KeyStone Financial":MAILTO:bhabetler@keystocks.com
END:VEVENT
BEGIN:VEVENT
DTSTART;TZID=UTC:20180313T190000
DTEND;TZID=UTC:20180313T210000
DTSTAMP:20260421T105508
CREATED:20180227T022114Z
LAST-MODIFIED:20180227T032450Z
UID:3083-1520967600-1520974800@keystocks.com
SUMMARY:Victoria: Building a Winning RRSP/TFSA One Stock at a Time
DESCRIPTION:All you need to know to effectively structure a winning stock portfolio and\, most importantly\, the right stocks to put in them.
URL:https://keystocks.com/event/building-a-winning-rrsp-tfsa-one-stock-at-a-time-5/
LOCATION:Coast Victoria Hotel & Marina by APA\, 146 Kingston St\, Victoria\, BC\, V8V1V4\, Canada
ORGANIZER;CN="KeyStone Financial":MAILTO:bhabetler@keystocks.com
END:VEVENT
BEGIN:VEVENT
DTSTART;TZID=UTC:20180308T190000
DTEND;TZID=UTC:20180308T210000
DTSTAMP:20260421T105508
CREATED:20180202T065729Z
LAST-MODIFIED:20180227T032506Z
UID:2352-1520535600-1520542800@keystocks.com
SUMMARY:Kelowna: Building a Winning RRSP/TFSA One Stock at a Time
DESCRIPTION:All you need to know to effectively structure a winning stock portfolio and\, most importantly\, the right stocks to put in them.
URL:https://keystocks.com/event/building-a-winning-rrsp-tfsa-one-stock-at-a-time-4/
LOCATION:Coast Capri Hotel\, 1171 Harvey Ave\, Kelowna\, BC\, V1Y6E8\, Canada
CATEGORIES:DIY Stock Investment Seminar Series
ATTACH;FMTTYPE=image/jpeg:https://keystocks.com/wp-content/uploads/2018/02/IMG_3353_2.jpg
ORGANIZER;CN="KeyStone Financial":MAILTO:bhabetler@keystocks.com
END:VEVENT
BEGIN:VEVENT
DTSTART;TZID=UTC:20180307T190000
DTEND;TZID=UTC:20180307T210000
DTSTAMP:20260421T105508
CREATED:20180202T065455Z
LAST-MODIFIED:20180227T032525Z
UID:2349-1520449200-1520456400@keystocks.com
SUMMARY:Edmonton: Building a Winning RRSP/TFSA One Stock at a Time
DESCRIPTION:All you need to know to effectively structure a winning stock portfolio and\, most importantly\, the right stocks to put in them.
URL:https://keystocks.com/event/building-a-winning-rrsp-tfsa-one-stock-at-a-time-3/
LOCATION:Varscona Hotel on Whyte\, 8208 106 St NW\, Edmonton\, AB\, T6E6R9\, Canada
CATEGORIES:DIY Stock Investment Seminar Series
ORGANIZER;CN="KeyStone Financial":MAILTO:bhabetler@keystocks.com
END:VEVENT
BEGIN:VEVENT
DTSTART;TZID=UTC:20180306T190000
DTEND;TZID=UTC:20180306T210000
DTSTAMP:20260421T105508
CREATED:20180202T064150Z
LAST-MODIFIED:20180227T032536Z
UID:2342-1520362800-1520370000@keystocks.com
SUMMARY:Calgary: Building a Winning RRSP/TFSA One Stock at a Time
DESCRIPTION:All you need to know to effectively structure a winning stock portfolio and\, most importantly\, the right stocks to put in them
URL:https://keystocks.com/event/building-a-winning-rrsp-tfsa-one-stock-at-a-time/
LOCATION:Sheraton Cavalier Calgary Hotel\, 2620 32 Ave NE\, Calgary\, AB\, T1Y6B8\, Canada
CATEGORIES:DIY Stock Investment Seminar Series
ORGANIZER;CN="KeyStone Financial":MAILTO:bhabetler@keystocks.com
END:VEVENT
BEGIN:VEVENT
DTSTART;TZID=UTC:20180301T190000
DTEND;TZID=UTC:20180301T210000
DTSTAMP:20260421T105508
CREATED:20180202T064443Z
LAST-MODIFIED:20180227T031946Z
UID:2346-1519930800-1519938000@keystocks.com
SUMMARY:Toronto: Building a Winning RRSP/TFSA One Stock at a Time
DESCRIPTION:All you need to know to effectively structure a winning stock portfolio and\, most importantly\, the right stocks to put in them
URL:https://keystocks.com/event/building-a-winning-rrsp-tfsa-one-stock-at-a-time-2/
LOCATION:Sheraton Toronto Airport Hotel & Conference Centre\, 801 Dixon Rd\, Toronto\, ON\, M9W1J5\, Canada
CATEGORIES:DIY Stock Investment Seminar Series
ORGANIZER;CN="KeyStone Financial":MAILTO:bhabetler@keystocks.com
END:VEVENT
BEGIN:VEVENT
DTSTART;TZID=UTC:20171017T190000
DTEND;TZID=UTC:20171026T210000
DTSTAMP:20260421T105508
CREATED:20171020T025557Z
LAST-MODIFIED:20180420T025726Z
UID:4751-1508266800-1509051600@keystocks.com
SUMMARY:KeyStone DIY Stock Investment Seminar - Canadian Investors Building a U.S. Portfolio Strategy
DESCRIPTION:The seminar is designed to give Canadian investors the tools they need to add U.S. Stock exposure to their portfolios. We cover everything from how many U.S. stocks to hold\, what type to buy\, how to buy\, what companies to stay away from and how to integrate these stocks into your overall equity portfolio. Plus we start you on your way to creating a winning US portfolio by including 3-4 great U.S. Stocks.  \nThe recent strength in the US dollar has provided the best buying opportunity from a currency perspective in 2-years\, but there are more factors at play than just the dollar – we navigate you through a multitude of factors why it is essential for any Canadian equity investor to hold US stocks.
URL:https://keystocks.com/event/keystone-diy-stock-investment-seminar-canadian-investors-building-a-u-s-portfolio-strategy/
LOCATION:BC
CATEGORIES:DIY Stock Investment Seminar Series
ORGANIZER;CN="KeyStone Financial":MAILTO:bhabetler@keystocks.com
END:VEVENT
END:VCALENDAR